BEGIN:VCALENDAR
VERSION:2.0
PRODID:-//ChamberMaster//Event Calendar 2.0//EN
METHOD:PUBLISH
X-PUBLISHED-TTL:P3D
REFRESH-INTERVAL:P3D
CALSCALE:GREGORIAN
BEGIN:VEVENT
DTSTART:20180212T230000Z
DTEND:20180213T010000Z
X-MICROSOFT-CDO-ALLDAYEVENT:FALSE
SUMMARY:Triangle South Enterprise Seminar "QuickBooks Online"
DESCRIPTION:This hands-on seminar will give a basic introduction and understanding to QuickBooks Online accounting system. It will cover the basics of using the Online version of Quickbooks for your small business. Instructor: Jennifer Nelson
X-ALT-DESC;FMTTYPE=text/html:This hands-on seminar will give a basic introduction and understanding to QuickBooks Online accounting system. It will cover the basics of using the Online version of Quickbooks for your small business. <strong>Instructor:</strong> Jennifer Nelson
LOCATION:Harnett Health Science Center 51 Red Mulberry Way Lillington\, NC 27546
UID:e.807.8911
SEQUENCE:3
DTSTAMP:20260422T090645Z
URL:https://business.dunnchamber.com/events/details/triangle-south-enterprise-seminar-quickbooks-online-8911
END:VEVENT

END:VCALENDAR
