BEGIN:VCALENDAR
VERSION:2.0
PRODID:-//ChamberMaster//Event Calendar 2.0//EN
METHOD:PUBLISH
X-PUBLISHED-TTL:P3D
REFRESH-INTERVAL:P3D
CALSCALE:GREGORIAN
BEGIN:VEVENT
DTSTART:20190919T210000Z
DTEND:20190920T010000Z
X-MICROSOFT-CDO-ALLDAYEVENT:FALSE
SUMMARY:Third Thursday Dine and Stroll Downtown Dunn
DESCRIPTION:Stop by one of Downtown's eateries for dinner\, than take a stroll around to various downtown merchants.
X-ALT-DESC;FMTTYPE=text/html:Stop by one of Downtown&#39\;s eateries for dinner\, than take a stroll around to various downtown merchants.\n<div style="text-align: center\;">&nbsp\;</div>\n
LOCATION:Downtown Dunn
UID:e.807.10846
SEQUENCE:3
DTSTAMP:20260424T153411Z
URL:https://business.dunnchamber.com/events/details/third-thursday-dine-and-stroll-downtown-dunn-09-19-2019-10846
END:VEVENT

END:VCALENDAR
