BEGIN:VCALENDAR
VERSION:2.0
PRODID:-//ChamberMaster//Event Calendar 2.0//EN
METHOD:PUBLISH
X-PUBLISHED-TTL:P3D
REFRESH-INTERVAL:P3D
CALSCALE:GREGORIAN
BEGIN:VEVENT
DTSTART:20260514T170000Z
DTEND:20260514T180000Z
X-MICROSOFT-CDO-ALLDAYEVENT:FALSE
SUMMARY:Ribbon Cutting - True Homes
DESCRIPTION:
X-ALT-DESC;FMTTYPE=text/html:
LOCATION:True Homes 540 St Matthews Road Erwin\, NC
UID:e.807.17579
SEQUENCE:3
DTSTAMP:20260423T202238Z
URL:https://business.dunnchamber.com/events/details/ribbon-cutting-true-homes-17579
END:VEVENT

END:VCALENDAR
