BEGIN:VCALENDAR
VERSION:2.0
PRODID:-//ChamberMaster//Event Calendar 2.0//EN
METHOD:PUBLISH
X-PUBLISHED-TTL:P3D
REFRESH-INTERVAL:P3D
CALSCALE:GREGORIAN
BEGIN:VEVENT
DTSTART:20180517T160000Z
DTEND:20180517T173000Z
X-MICROSOFT-CDO-ALLDAYEVENT:FALSE
SUMMARY:Harnett County Nonprofit Coalition Training: Grants
DESCRIPTION:You are invited to participate in the first quarterly meeting for the year. The Harnett County Nonprofit Coalition in partnership with Harnett County Community Foundation and  South River Electric/Operation Round Up are excited to offer a grants information session from 12-1:30 on  May 17\, 2018 at the Cooperative Extension office\, located at 126 Alexander Drive\, Lillington\, NC 27546 (Suite 300). Bring your lunch and look forward to receiving detail information not only about upcoming grant opportunities\, but other nonprofit resource links and grant resources available. Guidelines are being developed for our newsletter\, which will be shared in a couple of weeks.  Don't miss out on the opportunity to engage\, share\, and collaborate with other nonprofits. The Coalition seeks to deliver a learning experience that gets people excited about limitless possibilities of their work and imparts significant information that can be life changing for Harnett County citizens.
X-ALT-DESC;FMTTYPE=text/html:You are invited to participate in the first quarterly meeting for the year. The Harnett County Nonprofit Coalition in partnership with&nbsp\;Harnett County Community Foundation and &nbsp\;South River Electric/Operation Round Up are excited to offer a grants information session from 12-1:30 on &nbsp\;May 17\, 2018 at the Cooperative Extension office\, located at 126 Alexander Drive\, Lillington\, NC 27546 (Suite 300). Bring your lunch and look forward to receiving detail information not only about upcoming grant opportunities\, but other nonprofit resource links and grant resources available. Guidelines are being developed for our newsletter\, which will be shared in a couple of weeks. &nbsp\;Don&rsquo\;t miss out on the opportunity to engage\, share\, and collaborate with other nonprofits. The Coalition seeks to deliver a learning experience that gets people excited about limitless possibilities of their work and imparts significant information that can be life changing for Harnett County citizens.<br />\n&nbsp\;
LOCATION:Cooperative Extension office 126 Alexander Drive\, Suite 300 Lillington\, NC 27546
UID:e.807.10599
SEQUENCE:3
DTSTAMP:20260422T184331Z
URL:https://business.dunnchamber.com/events/details/harnett-county-nonprofit-coalition-training-grants-10599
END:VEVENT

END:VCALENDAR
