BEGIN:VCALENDAR
VERSION:2.0
PRODID:-//ChamberMaster//Event Calendar 2.0//EN
METHOD:PUBLISH
X-PUBLISHED-TTL:P3D
REFRESH-INTERVAL:P3D
CALSCALE:GREGORIAN
BEGIN:VEVENT
DTSTART:20270419T220000Z
DTEND:20270420T000000Z
X-MICROSOFT-CDO-ALLDAYEVENT:FALSE
SUMMARY:Harnett County Board of Commissioners Meeting
DESCRIPTION:The Harnett County Board of Commissioners is the governing body for the entire county. Responsibilities include overseeing the budget\, zoning and planning issues\, promoting growth\, and improving the quality of life for citizens of Harnett County.
X-ALT-DESC;FMTTYPE=text/html:<p>The Harnett County Board of Commissioners is the governing body for the entire county. Responsibilities include overseeing the budget\, zoning and planning issues\, promoting growth\, and improving the quality of life for citizens of Harnett County.</p>\n\n<p>&nbsp\;</p>\n\n<p>&nbsp\;</p>\n
LOCATION:Harnett County Resource Center and Library 455 McKinney Parkway Lillington\, North Carolina
UID:e.807.15104
SEQUENCE:3
DTSTAMP:20260421T003515Z
URL:https://business.dunnchamber.com/events/details/harnett-county-board-of-commissioners-meeting-04-19-2027-15104
END:VEVENT

END:VCALENDAR
