BEGIN:VCALENDAR
VERSION:2.0
PRODID:-//ChamberMaster//Event Calendar 2.0//EN
METHOD:PUBLISH
X-PUBLISHED-TTL:P3D
REFRESH-INTERVAL:P3D
CALSCALE:GREGORIAN
BEGIN:VEVENT
DTSTART:20260502T140000Z
DTEND:20260502T180000Z
X-MICROSOFT-CDO-ALLDAYEVENT:FALSE
SUMMARY:Good Grief Health Fair
DESCRIPTION:Join Cardinal Hospice Care for our "Good Grief Health Fair" a day of connection\, support and meaningful resources for individuals and families navigating through grief. Workshops include: Zumba\, Act Therapy\, Nutrition\, Blood pressure/weight\, Camp Butterfly childrens camp info\, Yoga\, EMS/First responders\, ways to volunteer\, fun\, food\, and more! Mind\, Body\, Soul\, Spirit! Please register at (910)388-4546! Wee look forward to seeing you
X-ALT-DESC;FMTTYPE=text/html:Join Cardinal Hospice Care for our &quot\;Good Grief Health Fair&quot\; a day of connection\, support and meaningful resources for individuals and families navigating through grief. Workshops include: Zumba\, Act Therapy\, Nutrition\, Blood pressure/weight\, Camp Butterfly childrens camp info\, Yoga\, EMS/First responders\, ways to volunteer\, fun\, food\, and more! Mind\, Body\, Soul\, Spirit! Please register at (910)388-4546! Wee look forward to seeing you
LOCATION:Dunn Senior Center 640 E. Johnson Street\, #E. Dunn\, NC 28334
UID:e.807.17577
SEQUENCE:3
DTSTAMP:20260423T000540Z
URL:https://business.dunnchamber.com/events/details/good-grief-health-fair-17577
END:VEVENT

END:VCALENDAR
