BEGIN:VCALENDAR
VERSION:2.0
PRODID:-//ChamberMaster//Event Calendar 2.0//EN
METHOD:PUBLISH
X-PUBLISHED-TTL:P3D
REFRESH-INTERVAL:P3D
CALSCALE:GREGORIAN
BEGIN:VEVENT
DTSTART:20250414T160000Z
DTEND:20250418T170000Z
X-MICROSOFT-CDO-ALLDAYEVENT:FALSE
SUMMARY:Dunn Passion Week
DESCRIPTION:Dunn Passion Week Services April 14 18 | 12:00 1:00 PM Cumberland Street Center | 200 South King Avenue\, Dunn\, NC Churches from across our community are coming together for a week of worship\, music\, and biblical preaching as we reflect on the death and resurrection of Jesus Christ. Each day features a different local pastor. All are welcome to attend this powerful time of unity and preparation for Easter.
X-ALT-DESC;FMTTYPE=text/html:Dunn Passion Week Services April 14&ndash\;18 | 12:00&ndash\;1:00 PM Cumberland Street Center | 200 South King Avenue\, Dunn\, NC Churches from across our community are coming together for a week of worship\, music\, and biblical preaching as we reflect on the death and resurrection of Jesus Christ. Each day features a different local pastor. All are welcome to attend this powerful time of unity and preparation for Easter.
LOCATION:200 S King Ave Dunn\, NC 28334
UID:e.807.17432
SEQUENCE:3
DTSTAMP:20260422T062602Z
URL:https://business.dunnchamber.com/events/details/dunn-passion-week-04-14-2025-17432
END:VEVENT

END:VCALENDAR
