BEGIN:VCALENDAR
VERSION:2.0
PRODID:-//ChamberMaster//Event Calendar 2.0//EN
METHOD:PUBLISH
X-PUBLISHED-TTL:P3D
REFRESH-INTERVAL:P3D
CALSCALE:GREGORIAN
BEGIN:VEVENT
DTSTART:20211009T130000Z
DTEND:20211009T203000Z
X-MICROSOFT-CDO-ALLDAYEVENT:FALSE
SUMMARY:Dollar General Hiring Event
DESCRIPTION:Dollar General- Now hiring! Find your opportunity\, $1000 sign on bonus! Earn up to $18.15 hourly.
X-ALT-DESC;FMTTYPE=text/html:Dollar General- Now hiring! Find your opportunity\, $1000 sign on bonus! Earn up to $18.15 hourly.
LOCATION:Brightleaf Flea Market 2320 S. Brightleaf Blvd. Smithfield\, NC 27577
UID:e.807.15449
SEQUENCE:3
DTSTAMP:20260422T090607Z
URL:https://business.dunnchamber.com/events/details/dollar-general-hiring-event-15449
END:VEVENT

END:VCALENDAR
