BEGIN:VCALENDAR
VERSION:2.0
PRODID:-//ChamberMaster//Event Calendar 2.0//EN
METHOD:PUBLISH
X-PUBLISHED-TTL:P3D
REFRESH-INTERVAL:P3D
CALSCALE:GREGORIAN
BEGIN:VEVENT
DTSTART:20200121T163000Z
DTEND:20200121T183000Z
X-MICROSOFT-CDO-ALLDAYEVENT:FALSE
SUMMARY:Business Impact: Dunn Schools Update
DESCRIPTION:You are invited to attend the Business Impact: Dunn Schools Update \n\non Tuesday\, January 21\, 2020\n\nfrom 11:30 a.m. to 1:30 p.m.\n\nat the Dunn Community Building\, located at 205 Jackson Road\n\n\n\nPresented by BB&T & Bernard Robinson and Company\n\n\n\nFeature Presentations by \n\nDr. Aaron Fleming\, Superintendent of Harnett County Schools\n\nCalvetta Dunkins\, Principal of Harnett Primary School\n\nYvette Carson\, Principal of Wayne Avenue Elementary School\n\nDr. Janet Doffermyre\, Principal of Dunn Middle School\n\nRyan McNeil\, Principal of Triton High School\n\nQuestion & Answer Session and Networking\n\n\n\nCONNECT - INFORM - ENGAGE
X-ALT-DESC;FMTTYPE=text/html:<p style="text-align: center\;"><span style="font-size:14px\;"><span style="font-family: arial\;">You are invited to attend the Business Impact: Dunn Schools Update&nbsp\;<br />\non Tuesday\, January 21\, 2020<br />\nfrom 11:30 a.m. to 1:30 p.m.<br />\nat the Dunn Community Building\, located at 205 Jackson Road</span></span><br />\n<br />\n<span style="font-size:14px\;"><span style="font-family: arial\;">Presented by <span style="color:#0000CD\;"><span style="font-size:16px\;"><strong>BB&amp\;T &amp\; Bernard Robinson and Company</strong></span></span><br />\n<br />\nFeature Presentations by </span></span><br />\n<span style="font-size:14px\;"><span style="font-family: arial\;">Dr. Aaron Fleming\, Superintendent of Harnett County Schools<br />\nCalvetta Dunkins\, Principal of Harnett Primary School<br />\nYvette Carson\, Principal of Wayne Avenue Elementary School<br />\nDr. Janet Doffermyre\, Principal of Dunn Middle School<br />\nRyan McNeil\, Principal of Triton High School</span></span></p>\n\n<div style="text-align: center\;"><span style="font-size:14px\;"><span style="font-family: arial\;">Question &amp\; Answer Session and Networking</span></span><br />\n<br />\n<span style="font-size:14px\;"><span style="font-family: arial\;"><strong>CONNECT - INFORM - ENGAGE</strong></span></span></div>\n
LOCATION:Dunn Community Building 205 Jackson Road Dunn
UID:e.807.13264
SEQUENCE:3
DTSTAMP:20260419T152219Z
URL:https://business.dunnchamber.com/events/details/business-impact-dunn-schools-update-13264
END:VEVENT

END:VCALENDAR
