BEGIN:VCALENDAR
VERSION:2.0
PRODID:-//ChamberMaster//Event Calendar 2.0//EN
METHOD:PUBLISH
X-PUBLISHED-TTL:P3D
REFRESH-INTERVAL:P3D
CALSCALE:GREGORIAN
BEGIN:VEVENT
DTSTART:20270409T030000Z
DTEND:20270415T210000Z
X-MICROSOFT-CDO-ALLDAYEVENT:FALSE
SUMMARY:2027 Dunn Chamber Annual Golf Tournament
DESCRIPTION:Registration for the\n\n2027 DACC Annual Golf Tournament Fundraiser
X-ALT-DESC;FMTTYPE=text/html:<div style="text-align: center\;"><strong><span style="font-size:26px\;"><span style="color:#2F4F4F\;">Registration for the<br />\n2027&nbsp\;DACC Annual Golf Tournament Fundraiser</span></span></strong><br />\n&nbsp\;</div>\n
LOCATION:Chicora Golf Course & Event Center
UID:e.807.17575
SEQUENCE:3
DTSTAMP:20260420T223400Z
URL:https://business.dunnchamber.com/events/details/2027-dunn-chamber-annual-golf-tournament-17575
END:VEVENT

END:VCALENDAR
